BEGIN:VCALENDAR
VERSION:2.0
PRODID:-//AFE Colombia - ECPv6.15.20//NONSGML v1.0//EN
CALSCALE:GREGORIAN
METHOD:PUBLISH
X-ORIGINAL-URL:https://afecolombia.org
X-WR-CALDESC:Eventos para AFE Colombia
REFRESH-INTERVAL;VALUE=DURATION:PT1H
X-Robots-Tag:noindex
X-PUBLISHED-TTL:PT1H
BEGIN:VTIMEZONE
TZID:America/Bogota
BEGIN:STANDARD
TZOFFSETFROM:-0500
TZOFFSETTO:-0500
TZNAME:-05
DTSTART:20250101T000000
END:STANDARD
END:VTIMEZONE
BEGIN:VEVENT
DTSTART;VALUE=DATE:20260422
DTEND;VALUE=DATE:20260424
DTSTAMP:20260423T061648
CREATED:20260325T140048Z
LAST-MODIFIED:20260325T140048Z
UID:255394-1776816000-1776988799@afecolombia.org
SUMMARY:Encuentro Red de Comunicadores AFE
DESCRIPTION:
URL:https://afecolombia.org/event/encuentro-red-de-comunicadores-afe-2/
CATEGORIES:Exclusivo Fundaciones AFE,Presencial
END:VEVENT
BEGIN:VEVENT
DTSTART;VALUE=DATE:20260507
DTEND;VALUE=DATE:20260508
DTSTAMP:20260423T061648
CREATED:20260325T140130Z
LAST-MODIFIED:20260325T140130Z
UID:255396-1778112000-1778198399@afecolombia.org
SUMMARY:Encuentro de Conocimiento AFE
DESCRIPTION:
URL:https://afecolombia.org/event/encuentro-de-conocimiento-afe/
CATEGORIES:Exclusivo Fundaciones AFE,Presencial
END:VEVENT
BEGIN:VEVENT
DTSTART;VALUE=DATE:20260519
DTEND;VALUE=DATE:20260523
DTSTAMP:20260423T061648
CREATED:20260325T140302Z
LAST-MODIFIED:20260325T140302Z
UID:255398-1779148800-1779494399@afecolombia.org
SUMMARY:Visita Regional AFE: Amazonía
DESCRIPTION:
URL:https://afecolombia.org/event/visita-regional-afe-amazonia/
CATEGORIES:Exclusivo Fundaciones AFE,Presencial
END:VEVENT
BEGIN:VEVENT
DTSTART;VALUE=DATE:20261027
DTEND;VALUE=DATE:20261030
DTSTAMP:20260423T061648
CREATED:20260325T135938Z
LAST-MODIFIED:20260325T135938Z
UID:255391-1793059200-1793318399@afecolombia.org
SUMMARY:Foro AFE Prosperidad Compartida 2026
DESCRIPTION:
URL:https://afecolombia.org/event/foro-afe-prosperidad-compartida-2026/
LOCATION:Forum UPB\, Medellín\, Antioquia\, Colombia
END:VEVENT
END:VCALENDAR