BEGIN:VCALENDAR
VERSION:2.0
PRODID:-//AFE Colombia - ECPv6.15.20//NONSGML v1.0//EN
CALSCALE:GREGORIAN
METHOD:PUBLISH
X-ORIGINAL-URL:https://afecolombia.org
X-WR-CALDESC:Eventos para AFE Colombia
REFRESH-INTERVAL;VALUE=DURATION:PT1H
X-Robots-Tag:noindex
X-PUBLISHED-TTL:PT1H
BEGIN:VTIMEZONE
TZID:America/Bogota
BEGIN:STANDARD
TZOFFSETFROM:-0500
TZOFFSETTO:-0500
TZNAME:-05
DTSTART:20240101T000000
END:STANDARD
END:VTIMEZONE
BEGIN:VEVENT
DTSTART;TZID=America/Bogota:20250506T090000
DTEND;TZID=America/Bogota:20250506T110000
DTSTAMP:20260423T052303
CREATED:20250310T200047Z
LAST-MODIFIED:20250430T201944Z
UID:253476-1746522000-1746529200@afecolombia.org
SUMMARY:Charla Impuesto de Timbre - AFE | Fundación ProBono Colombia
DESCRIPTION:
URL:https://afecolombia.org/event/hablemos-con-la-afe-sobre-fundaciones-de-segundo-piso/
CATEGORIES:Virtual,Webinar
END:VEVENT
BEGIN:VEVENT
DTSTART;TZID=America/Bogota:20250430T080000
DTEND;TZID=America/Bogota:20250430T110000
DTSTAMP:20260423T052303
CREATED:20250310T195314Z
LAST-MODIFIED:20250310T195314Z
UID:253468-1746000000-1746010800@afecolombia.org
SUMMARY:Sesión 5 – Curso Diversificación de ingresos
DESCRIPTION:
URL:https://afecolombia.org/event/sesion-5-curso-diversificacion-de-ingresos/
CATEGORIES:Curso,Exclusivo Fundaciones AFE,Virtual
END:VEVENT
BEGIN:VEVENT
DTSTART;TZID=America/Bogota:20250423T080000
DTEND;TZID=America/Bogota:20250423T110000
DTSTAMP:20260423T052303
CREATED:20250310T195241Z
LAST-MODIFIED:20250310T195241Z
UID:253466-1745395200-1745406000@afecolombia.org
SUMMARY:Sesión 4 – Curso Diversificación de ingresos
DESCRIPTION:
URL:https://afecolombia.org/event/sesion-4-curso-diversificacion-de-ingresos/
CATEGORIES:Curso,Exclusivo Fundaciones AFE,Virtual
END:VEVENT
BEGIN:VEVENT
DTSTART;TZID=America/Bogota:20250409T080000
DTEND;TZID=America/Bogota:20250409T110000
DTSTAMP:20260423T052303
CREATED:20250310T195211Z
LAST-MODIFIED:20250310T195211Z
UID:253464-1744185600-1744196400@afecolombia.org
SUMMARY:Sesión 3 – Curso Diversificación de ingresos
DESCRIPTION:
URL:https://afecolombia.org/event/sesion-3-curso-diversificacion-de-ingresos/
CATEGORIES:Curso,Exclusivo Fundaciones AFE,Virtual
END:VEVENT
BEGIN:VEVENT
DTSTART;TZID=America/Bogota:20250408T160000
DTEND;TZID=America/Bogota:20250408T173000
DTSTAMP:20260423T052303
CREATED:20250310T195009Z
LAST-MODIFIED:20250404T193535Z
UID:253460-1744128000-1744133400@afecolombia.org
SUMMARY:Encuentro de Fundaciones AFE con BID-LAB
DESCRIPTION:
URL:https://afecolombia.org/event/encuentro-de-fundaciones-afe-con-bid-lab/
CATEGORIES:Exclusivo Fundaciones AFE,Virtual
END:VEVENT
BEGIN:VEVENT
DTSTART;TZID=America/Bogota:20250403T100000
DTEND;TZID=America/Bogota:20250403T120000
DTSTAMP:20260423T052303
CREATED:20250310T190011Z
LAST-MODIFIED:20250319T141151Z
UID:253446-1743674400-1743681600@afecolombia.org
SUMMARY:Hablemos con la AFE: Fundaciones Cundinamarca
DESCRIPTION:
URL:https://afecolombia.org/event/hablemos-con-la-afe-fundaciones-cundinamarca/
CATEGORIES:Hablemos con la AFE,Presencial
END:VEVENT
BEGIN:VEVENT
DTSTART;TZID=America/Bogota:20250402T140000
DTEND;TZID=America/Bogota:20250402T160000
DTSTAMP:20260423T052303
CREATED:20250326T145823Z
LAST-MODIFIED:20250326T145824Z
UID:253715-1743602400-1743609600@afecolombia.org
SUMMARY:Encuentro Fundaciones AFE con APC
DESCRIPTION:
URL:https://afecolombia.org/event/encuentro-fundaciones-afe-con-apc/
CATEGORIES:Exclusivo Fundaciones AFE,Virtual
END:VEVENT
BEGIN:VEVENT
DTSTART;TZID=America/Bogota:20250402T080000
DTEND;TZID=America/Bogota:20250402T110000
DTSTAMP:20260423T052303
CREATED:20250310T195131Z
LAST-MODIFIED:20250310T195131Z
UID:253462-1743580800-1743591600@afecolombia.org
SUMMARY:Sesión 2 – Curso Diversificación de ingresos
DESCRIPTION:
URL:https://afecolombia.org/event/sesion-2-curso-diversificacion-de-ingresos/
CATEGORIES:Curso,Exclusivo Fundaciones AFE,Virtual
END:VEVENT
BEGIN:VEVENT
DTSTART;TZID=America/Bogota:20250326T080000
DTEND;TZID=America/Bogota:20250326T110000
DTSTAMP:20260423T052303
CREATED:20250310T185926Z
LAST-MODIFIED:20250310T185926Z
UID:253444-1742976000-1742986800@afecolombia.org
SUMMARY:Sesión 1 – Curso Diversificación de ingresos
DESCRIPTION:
URL:https://afecolombia.org/event/sesion-1-curso-diversificacion-de-ingresos/
CATEGORIES:Exclusivo Fundaciones AFE,Virtual
END:VEVENT
BEGIN:VEVENT
DTSTART;TZID=America/Bogota:20250306T080000
DTEND;TZID=America/Bogota:20250306T130000
DTSTAMP:20260423T052303
CREATED:20250212T215448Z
LAST-MODIFIED:20250212T215803Z
UID:253283-1741248000-1741266000@afecolombia.org
SUMMARY:Taller: IA para organizaciones sociales
DESCRIPTION:Más información: comunicaciones@afecolombia.org
URL:https://afecolombia.org/event/taller-ia-para-organizaciones-sociales/
CATEGORIES:Exclusivo Fundaciones AFE,Presencial,Taller
END:VEVENT
BEGIN:VEVENT
DTSTART;TZID=America/Bogota:20250305T140000
DTEND;TZID=America/Bogota:20250305T180000
DTSTAMP:20260423T052303
CREATED:20250212T170652Z
LAST-MODIFIED:20250212T170815Z
UID:253187-1741183200-1741197600@afecolombia.org
SUMMARY:Asamblea General Ordinaria
DESCRIPTION:
URL:https://afecolombia.org/event/asamblea-general-ordinaria/
END:VEVENT
BEGIN:VEVENT
DTSTART;TZID=America/Bogota:20250305T080000
DTEND;TZID=America/Bogota:20250305T140000
DTSTAMP:20260423T052303
CREATED:20250212T170948Z
LAST-MODIFIED:20250212T193011Z
UID:253190-1741161600-1741183200@afecolombia.org
SUMMARY:Encuentro de Directores AFE con Cooperación Internacional
DESCRIPTION:
URL:https://afecolombia.org/event/encuentro-de-directores-afe-con-cooperacion-internacional/
END:VEVENT
BEGIN:VEVENT
DTSTART;TZID=America/Bogota:20250227T080000
DTEND;TZID=America/Bogota:20250227T100000
DTSTAMP:20260423T052303
CREATED:20250212T204138Z
LAST-MODIFIED:20250212T210958Z
UID:253254-1740643200-1740650400@afecolombia.org
SUMMARY:Webinar: Tributación para entidades sin ánimo de lucro
DESCRIPTION:
URL:https://afecolombia.org/event/tributacion-para-entidades-sin-animo-de-lucro/
CATEGORIES:Exclusivo Fundaciones AFE,Webinar
END:VEVENT
END:VCALENDAR